BEGIN:VCALENDAR
VERSION:2.0
PRODID:-//The Newport Rodeo Association - ECPv6.15.15//NONSGML v1.0//EN
CALSCALE:GREGORIAN
METHOD:PUBLISH
X-ORIGINAL-URL:https://newportrodeo.com
X-WR-CALDESC:Events for The Newport Rodeo Association
REFRESH-INTERVAL;VALUE=DURATION:PT1H
X-Robots-Tag:noindex
X-PUBLISHED-TTL:PT1H
BEGIN:VTIMEZONE
TZID:America/Los_Angeles
BEGIN:DAYLIGHT
TZOFFSETFROM:-0800
TZOFFSETTO:-0700
TZNAME:PDT
DTSTART:20250309T100000
END:DAYLIGHT
BEGIN:STANDARD
TZOFFSETFROM:-0700
TZOFFSETTO:-0800
TZNAME:PST
DTSTART:20251102T090000
END:STANDARD
BEGIN:DAYLIGHT
TZOFFSETFROM:-0800
TZOFFSETTO:-0700
TZNAME:PDT
DTSTART:20260308T100000
END:DAYLIGHT
BEGIN:STANDARD
TZOFFSETFROM:-0700
TZOFFSETTO:-0800
TZNAME:PST
DTSTART:20261101T090000
END:STANDARD
BEGIN:DAYLIGHT
TZOFFSETFROM:-0800
TZOFFSETTO:-0700
TZNAME:PDT
DTSTART:20270314T100000
END:DAYLIGHT
BEGIN:STANDARD
TZOFFSETFROM:-0700
TZOFFSETTO:-0800
TZNAME:PST
DTSTART:20271107T090000
END:STANDARD
END:VTIMEZONE
BEGIN:VEVENT
DTSTART;TZID=America/Los_Angeles:20260321T170000
DTEND;TZID=America/Los_Angeles:20260321T233000
DTSTAMP:20260422T081839
CREATED:20251113T231818Z
LAST-MODIFIED:20260205T215102Z
UID:2421-1774112400-1774135800@newportrodeo.com
SUMMARY:2026 Kick Open the Chutes Banquet
DESCRIPTION:Join Newport Rodeo at the Kick Open the Chutes Banquet in March 21st\, 2026! \nGET TICKETS! \nPriest River Event Center \n  \nhttps://www.rodeoticket.com/rodeos/newport-kick-open-the-chutes-banquet-event/2026/tickets
URL:https://newportrodeo.com/event/2026-kick-open-the-chutes-banquet/
LOCATION:WA
END:VEVENT
END:VCALENDAR